BEGIN:VCALENDAR
VERSION:2.0
PRODID:-//Contratero//ES
CALSCALE:GREGORIAN
METHOD:PUBLISH
BEGIN:VEVENT
UID:SUM-01/25 LG@contratero.es
DTSTAMP:20260423T121225Z
DTSTART:20241024T235959
DTEND:20241025T005959
SUMMARY:Cierre: Suministro para la adquisición del software Sympos
DESCRIPTION:Suministro para la adquisición del software Symposium by Emagister para la Universidad Politécnica de Madrid durante el año 2025\\n\\nOrganismo: Rectorado de la Universidad Politécnica de Madrid\\n\\nVer en Contratero: https://contratero.es/contracts/SUM-01/25 LG
URL:https://contratero.es/contracts/SUM-01/25 LG
STATUS:CONFIRMED
BEGIN:VALARM
TRIGGER:-P1D
ACTION:DISPLAY
DESCRIPTION:Recordatorio: Suministro para la adquisición
END:VALARM
END:VEVENT
END:VCALENDAR